BEGIN:VCALENDAR
VERSION:2.0
PRODID:-//DUNAatelier | Stichting Kunstvereeniging Katwijk - ECPv6.15.13//NONSGML v1.0//EN
CALSCALE:GREGORIAN
METHOD:PUBLISH
X-WR-CALNAME:DUNAatelier | Stichting Kunstvereeniging Katwijk
X-ORIGINAL-URL:https://schilderenaanzee.nl
X-WR-CALDESC:Evenementen voor DUNAatelier | Stichting Kunstvereeniging Katwijk
REFRESH-INTERVAL;VALUE=DURATION:PT1H
X-Robots-Tag:noindex
X-PUBLISHED-TTL:PT1H
BEGIN:VTIMEZONE
TZID:Europe/Amsterdam
BEGIN:DAYLIGHT
TZOFFSETFROM:+0100
TZOFFSETTO:+0200
TZNAME:CEST
DTSTART:20170326T010000
END:DAYLIGHT
BEGIN:STANDARD
TZOFFSETFROM:+0200
TZOFFSETTO:+0100
TZNAME:CET
DTSTART:20171029T010000
END:STANDARD
BEGIN:DAYLIGHT
TZOFFSETFROM:+0100
TZOFFSETTO:+0200
TZNAME:CEST
DTSTART:20180325T010000
END:DAYLIGHT
BEGIN:STANDARD
TZOFFSETFROM:+0200
TZOFFSETTO:+0100
TZNAME:CET
DTSTART:20181028T010000
END:STANDARD
BEGIN:DAYLIGHT
TZOFFSETFROM:+0100
TZOFFSETTO:+0200
TZNAME:CEST
DTSTART:20190331T010000
END:DAYLIGHT
BEGIN:STANDARD
TZOFFSETFROM:+0200
TZOFFSETTO:+0100
TZNAME:CET
DTSTART:20191027T010000
END:STANDARD
END:VTIMEZONE
BEGIN:VEVENT
DTSTART;TZID=Europe/Amsterdam:20180826T100000
DTEND;TZID=Europe/Amsterdam:20180826T160000
DTSTAMP:20260421T234830
CREATED:20241118T190901Z
LAST-MODIFIED:20241118T194427Z
UID:2234-1535277600-1535299200@schilderenaanzee.nl
SUMMARY:MASTERCLASS - BRAM STOOF
DESCRIPTION:Bram Stoof (1959) volgde in de jaren tachtig zijn opleiding aan de kunstacademie in Kampen\, waar hij vrije grafiek\, illustratie en schilderkunst studeerde. Hij schildert portretten\, landschappen\, stillevens en naakten in olieverf en in aquarel. Bram geeft met liefde masterclasses. Niet alleen omdat de omgang met zijn cursisten hem veel plezier geeft. Hij vindt dat hij van niets zo veel leert als van lesgeven. Vanuit dat perspectief bezien zijn de masterclasses voor hem een vorm van samen studeren. De docent dicteert niet maar denkt mee. \n \nTijdens een geheel verzorgde dag leert u van Bram de fijne kneepjes van het schildersvak. We starten om 10.00 uur met een les in ons atelier. Daarna gaan we naar buiten en onder leiding van Bram zelf aan de slag. De lunch wordt door ons verzorgd. De masterclass eindigt rond 16.00 uur. We kijken dan\, onder het genot van een drankje\, naar het opgeleverde werk. \nDe masterclass kost €50\,- en is exclusief materiaal. Verf en doeken kunt u tegen een gunstige prijs bij ons kopen. Zelf materiaal meebrengen mag uiteraard ook. Een ezel\, kwasten en waterpotten leent u van ons. \nAanmelden kan door te mailen naar liatjabringa@gmail.com\, of telefonisch via 06-34015564. \n\n\n\nWanneer\n26 augustus 201810:00 – 16:00 uur  \nLet op: dit evenement is voorbij.
URL:https://schilderenaanzee.nl/agenda/masterclass-bram-stoof/
CATEGORIES:Masterclasses
ATTACH;FMTTYPE=image/jpeg:https://schilderenaanzee.nl/wp-content/uploads/2024/11/header-painter-1937575-1920.jpg
END:VEVENT
END:VCALENDAR