BEGIN:VCALENDAR
VERSION:2.0
PRODID:-//DUNAatelier | Stichting Kunstvereeniging Katwijk - ECPv6.15.13//NONSGML v1.0//EN
CALSCALE:GREGORIAN
METHOD:PUBLISH
X-ORIGINAL-URL:https://schilderenaanzee.nl
X-WR-CALDESC:Evenementen voor DUNAatelier | Stichting Kunstvereeniging Katwijk
REFRESH-INTERVAL;VALUE=DURATION:PT1H
X-Robots-Tag:noindex
X-PUBLISHED-TTL:PT1H
BEGIN:VTIMEZONE
TZID:Europe/Amsterdam
BEGIN:DAYLIGHT
TZOFFSETFROM:+0100
TZOFFSETTO:+0200
TZNAME:CEST
DTSTART:20240331T010000
END:DAYLIGHT
BEGIN:STANDARD
TZOFFSETFROM:+0200
TZOFFSETTO:+0100
TZNAME:CET
DTSTART:20241027T010000
END:STANDARD
BEGIN:DAYLIGHT
TZOFFSETFROM:+0100
TZOFFSETTO:+0200
TZNAME:CEST
DTSTART:20250330T010000
END:DAYLIGHT
BEGIN:STANDARD
TZOFFSETFROM:+0200
TZOFFSETTO:+0100
TZNAME:CET
DTSTART:20251026T010000
END:STANDARD
BEGIN:DAYLIGHT
TZOFFSETFROM:+0100
TZOFFSETTO:+0200
TZNAME:CEST
DTSTART:20260329T010000
END:DAYLIGHT
BEGIN:STANDARD
TZOFFSETFROM:+0200
TZOFFSETTO:+0100
TZNAME:CET
DTSTART:20261025T010000
END:STANDARD
END:VTIMEZONE
BEGIN:VEVENT
DTSTART;TZID=Europe/Amsterdam:20250801T000000
DTEND;TZID=Europe/Amsterdam:20250829T235959
DTSTAMP:20260422T031354
CREATED:20250725T143509Z
LAST-MODIFIED:20250810T163236Z
UID:3897-1754006400-1756511999@schilderenaanzee.nl
SUMMARY:masterclasses in het DUNAatelier
DESCRIPTION:Ook deze zomer zijn er weer Masterclasses te volgen. Een Masterclass duurt van 10 tot ca. 16.30 uur Op 1 augustus leidde Robert Vorstman de dag. Op  29 augustus komt Peter Smit en op 4 oktober zal Harold Schouten de dag begeleiden. U kunt zich opgeven. \nNa een introductie (koffie en thee staan klaar) gaat men met ezels\, verf en doeken naar het strand waar de kunstenaar aanwijzingen geeft. Er kan ook in andere technieken gewerkt worden. \nEzels zijn aanwezig\, verf en doeken zijn zo nodig tegen kostprijs in het DUNAatelier aan te schaffen. \nRond het middaguur staat in het DUNAatelier een lunch klaar waarna men weer op het strand verder kan gaan of met iets nieuws kan beginnen. ’s Middags zijn thee en water volop te krijgen en wordt er afgesloten met een bespreking en een drankje. \nVerdere informatie en opgeven: 06 34015564 of via de website of www.schilderenaanzee.nl
URL:https://schilderenaanzee.nl/agenda/masterclasses-in-het-dunaatelier/
CATEGORIES:Masterclasses
END:VEVENT
END:VCALENDAR