BEGIN:VCALENDAR
VERSION:2.0
PRODID:-//DUNAatelier | Stichting Kunstvereeniging Katwijk - ECPv6.15.13//NONSGML v1.0//EN
CALSCALE:GREGORIAN
METHOD:PUBLISH
X-WR-CALNAME:DUNAatelier | Stichting Kunstvereeniging Katwijk
X-ORIGINAL-URL:https://schilderenaanzee.nl
X-WR-CALDESC:Evenementen voor DUNAatelier | Stichting Kunstvereeniging Katwijk
REFRESH-INTERVAL;VALUE=DURATION:PT1H
X-Robots-Tag:noindex
X-PUBLISHED-TTL:PT1H
BEGIN:VTIMEZONE
TZID:Europe/Amsterdam
BEGIN:DAYLIGHT
TZOFFSETFROM:+0100
TZOFFSETTO:+0200
TZNAME:CEST
DTSTART:20170326T010000
END:DAYLIGHT
BEGIN:STANDARD
TZOFFSETFROM:+0200
TZOFFSETTO:+0100
TZNAME:CET
DTSTART:20171029T010000
END:STANDARD
BEGIN:DAYLIGHT
TZOFFSETFROM:+0100
TZOFFSETTO:+0200
TZNAME:CEST
DTSTART:20180325T010000
END:DAYLIGHT
BEGIN:STANDARD
TZOFFSETFROM:+0200
TZOFFSETTO:+0100
TZNAME:CET
DTSTART:20181028T010000
END:STANDARD
BEGIN:DAYLIGHT
TZOFFSETFROM:+0100
TZOFFSETTO:+0200
TZNAME:CEST
DTSTART:20190331T010000
END:DAYLIGHT
BEGIN:STANDARD
TZOFFSETFROM:+0200
TZOFFSETTO:+0100
TZNAME:CET
DTSTART:20191027T010000
END:STANDARD
END:VTIMEZONE
BEGIN:VEVENT
DTSTART;TZID=Europe/Amsterdam:20181117T000000
DTEND;TZID=Europe/Amsterdam:20181214T235959
DTSTAMP:20260426T005119
CREATED:20241118T190905Z
LAST-MODIFIED:20241119T112353Z
UID:2287-1542412800-1544831999@schilderenaanzee.nl
SUMMARY:WEGENS VERBOUWING GESLOTEN
DESCRIPTION:
URL:https://schilderenaanzee.nl/agenda/wegens-verbouwing-gesloten/
CATEGORIES:Workshops
ATTACH;FMTTYPE=image/jpeg:https://schilderenaanzee.nl/wp-content/uploads/2024/11/header-isoleren-dunaatelier.jpg
END:VEVENT
END:VCALENDAR