BEGIN:VCALENDAR
VERSION:2.0
PRODID:-//DUNAatelier | Stichting Kunstvereeniging Katwijk - ECPv6.15.13//NONSGML v1.0//EN
CALSCALE:GREGORIAN
METHOD:PUBLISH
X-WR-CALNAME:DUNAatelier | Stichting Kunstvereeniging Katwijk
X-ORIGINAL-URL:https://schilderenaanzee.nl
X-WR-CALDESC:Evenementen voor DUNAatelier | Stichting Kunstvereeniging Katwijk
REFRESH-INTERVAL;VALUE=DURATION:PT1H
X-Robots-Tag:noindex
X-PUBLISHED-TTL:PT1H
BEGIN:VTIMEZONE
TZID:Europe/Amsterdam
BEGIN:DAYLIGHT
TZOFFSETFROM:+0100
TZOFFSETTO:+0200
TZNAME:CEST
DTSTART:20200329T010000
END:DAYLIGHT
BEGIN:STANDARD
TZOFFSETFROM:+0200
TZOFFSETTO:+0100
TZNAME:CET
DTSTART:20201025T010000
END:STANDARD
BEGIN:DAYLIGHT
TZOFFSETFROM:+0100
TZOFFSETTO:+0200
TZNAME:CEST
DTSTART:20210328T010000
END:DAYLIGHT
BEGIN:STANDARD
TZOFFSETFROM:+0200
TZOFFSETTO:+0100
TZNAME:CET
DTSTART:20211031T010000
END:STANDARD
BEGIN:DAYLIGHT
TZOFFSETFROM:+0100
TZOFFSETTO:+0200
TZNAME:CEST
DTSTART:20220327T010000
END:DAYLIGHT
BEGIN:STANDARD
TZOFFSETFROM:+0200
TZOFFSETTO:+0100
TZNAME:CET
DTSTART:20221030T010000
END:STANDARD
END:VTIMEZONE
BEGIN:VEVENT
DTSTART;TZID=Europe/Amsterdam:20210804T000000
DTEND;TZID=Europe/Amsterdam:20210825T235959
DTSTAMP:20260424T010658
CREATED:20241118T190905Z
LAST-MODIFIED:20241119T112459Z
UID:2286-1628035200-1629935999@schilderenaanzee.nl
SUMMARY:Elke woensdag  in augustus: Kinderworkshops in het DUNAatelier
DESCRIPTION:Kinder workshops in het DUNAatelier\nElke woensdag in de schoolvakantie\, 4 augustus t/m woensdag 25 augustus\, worden er in het DUNAatelier weer workshops voor kinderen gegeven.\nWe werken buiten\, dus bij mooi/goed weer. Als het weer slecht is kan er geen workshop gehouden worden. We starten om 10.00 en stoppen om 11.30 uur. Er wordt lesgegeven en je krijgt je eigen werkstuk na afloop mee naar huis.\nHet is handig als je oude kleren aandoet\, zodat het niet erg is als je een beetje knoeit met verf. \nWorkshops SCHILDEREN: ben je tussen 6 en 12 jaar? Dan kun je meedoen.\nDe kosten zijn € 7\,50 per kind\, inclusief het materiaal\, wat drinken en wat lekkers. \nAanmelden via schilderenaanzee@gmail.com of 06 34015564
URL:https://schilderenaanzee.nl/agenda/elke-woensdag-in-augustus-kinderworkshops-in-het-dunaatelier/
CATEGORIES:Workshops
ATTACH;FMTTYPE=image/jpeg:https://schilderenaanzee.nl/wp-content/uploads/2024/11/header-dsc-7892.jpg
END:VEVENT
END:VCALENDAR